BEGIN:VCALENDAR
METHOD:PUBLISH
PRODID:-//Weblication CMS
VERSION:2.0
BEGIN:VEVENT
SUMMARY:ACS Classic Drive Lenzerheide Motor Classics 2025
DTSTART:20250613T080000
DTEND:20250615T170000
DESCRIPTION:Jedes Jahr begeistert die Lenzerheide Motor Classics (LMC) ein grosses Publikum und bietet ein unvergessliches Wochenende voller Rennsport und Action. Wiederum mit dabei ist der ACS mit einem eigenen Feld von sportiven Young- und Oldtimern.
LOCATION:
UID:https://www.acs.ch/de/events/termine/ACS-Classic-Drive-Lenzerheide-Motor-Classics-2025.php
URL:https://www.acs.ch/de/events/termine/ACS-Classic-Drive-Lenzerheide-Motor-Classics-2025.php
END:VEVENT
END:VCALENDAR