BEGIN:VCALENDAR
METHOD:PUBLISH
PRODID:-//Weblication CMS
VERSION:2.0
BEGIN:VEVENT
SUMMARY:La journée des motard-e-s 2025
DTSTART:20250621T090000
DTEND:20250621T170000
DESCRIPTION:La Police neuchâteloise et le SCAN co-organisent, une nouvelle fois, la Journée des motard-e-s. Cette journée a lieu sur le site du SCAN, à Malvilliers.
LOCATION:
UID:https://www.acs.ch/de/events/termine/La-journ-e-des-motard-e-s-2025.php
URL:https://www.acs.ch/de/events/termine/La-journ-e-des-motard-e-s-2025.php
END:VEVENT
END:VCALENDAR