BEGIN:VCALENDAR
METHOD:PUBLISH
PRODID:-//Weblication CMS
VERSION:2.0
BEGIN:VEVENT
SUMMARY:ACS Classic Drive Sardinia
DTSTART:20260922
DTEND:20260928
DESCRIPTION:Küsten, Kurven, Kulinarik: Exklusive  6tägige Reise quer durch Sardinien. Mit der Fähre ab Genua nach Olbia, Übernachtung in erlesen Luxus-Resorts am Strand. Faszinierende Routen entlang der Küste und durch die Berge. Zwei Daten stehen zur Auswahl.
LOCATION:
UID:https://www.acs.ch/de/events/termine/acs-classic-drive-sardinia.php
URL:https://www.acs.ch/de/events/termine/acs-classic-drive-sardinia.php
END:VEVENT
BEGIN:VEVENT
SUMMARY:ACS Classic Drive Sardinia
DTSTART:20260926
DTEND:20261002
DESCRIPTION:Küsten, Kurven, Kulinarik: Exklusive  6tägige Reise quer durch Sardinien. Mit der Fähre ab Genua nach Olbia, Übernachtung in erlesen Luxus-Resorts am Strand. Faszinierende Routen entlang der Küste und durch die Berge. Zwei Daten stehen zur Auswahl.
LOCATION:
UID:https://www.acs.ch/de/events/termine/acs-classic-drive-sardinia.php
URL:https://www.acs.ch/de/events/termine/acs-classic-drive-sardinia.php
END:VEVENT
BEGIN:VEVENT
SUMMARY:ACS Classic Drive Sardinia
DTSTART:20260929
DTEND:20261005
DESCRIPTION:Küsten, Kurven, Kulinarik: Exklusive  6tägige Reise quer durch Sardinien. Mit der Fähre ab Genua nach Olbia, Übernachtung in erlesen Luxus-Resorts am Strand. Faszinierende Routen entlang der Küste und durch die Berge. Zwei Daten stehen zur Auswahl.
LOCATION:
UID:https://www.acs.ch/de/events/termine/acs-classic-drive-sardinia.php
URL:https://www.acs.ch/de/events/termine/acs-classic-drive-sardinia.php
END:VEVENT
END:VCALENDAR