BEGIN:VCALENDAR
METHOD:PUBLISH
PRODID:-//Weblication CMS
VERSION:2.0
BEGIN:VEVENT
SUMMARY:ACS Drive Lenzerheide Motor Classics
DTSTART:20260529
DTEND:20260531
DESCRIPTION:Jedes Jahr begeistert die Lenzerheide Motor Classics (LMC) ein grosses Publikum und bietet ein unvergessliches Wochenende voller Rennsport und Action. Wiederum mit dabei ist der ACS mit einem eigenen Feld von sportiven Young- und Oldtimern. 
LOCATION:
UID:https://www.acs.ch/de/events/termine/acs-drive-lenzerheide-motor-classics.php
URL:https://www.acs.ch/de/events/termine/acs-drive-lenzerheide-motor-classics.php
END:VEVENT
END:VCALENDAR