BEGIN:VCALENDAR
METHOD:PUBLISH
PRODID:-//Weblication CMS
VERSION:2.0
BEGIN:VEVENT
SUMMARY:ACS Drive - Les Châteaux de Bourgogne 2026
DTSTART:20260710
DTEND:20260713
DESCRIPTION:Burgund mit seinen endlosen Weinbergen und historischen Schlössern lädt Sie zu einem unvergesslichen Ausflug für Autoliebhaber ein – ganz in Ihrem eigenen Tempo. Mehrere Tage lang erkunden Sie die sanft geschwungenen, grünen Strassen, geniessen kulinarische Köstlichkeiten aus Burgund und besuchen berühmte regionale Sehenswürdigkeiten wie das Château de Sully oder das Château de Savigny-lès-Beaune.
LOCATION:
UID:https://www.acs.ch/de/events/termine/acs-drive-les-chateaux-de-bourgogne.php
URL:https://www.acs.ch/de/events/termine/acs-drive-les-chateaux-de-bourgogne.php
END:VEVENT
END:VCALENDAR