BEGIN:VCALENDAR
METHOD:PUBLISH
PRODID:-//Weblication CMS
VERSION:2.0
BEGIN:VEVENT
SUMMARY:ACS Drive - Route des Grandes Alpes
DTSTART:20260911
DTEND:20260916
DESCRIPTION:Erleben Sie die legendäre Route des Grandes Alpes: 720 Kilometer vom Genfersee bis ans Mittelmeer, über 16 beeindruckende Pässe – darunter der höchste Europas, der Col d’Iseran (2'764 m). Freuen Sie sich auf sportliches Fahrvergnügen, spektakuläre Alpenpanoramen sowie exzellente Hotels und Sternerestaurants. Ein unvergessliches 5–6-tägiges Alpenabenteuer bis zur Côte d’Azur.
LOCATION:
UID:https://www.acs.ch/de/events/termine/acs-drive-route-des-grandes-alpes.php
URL:https://www.acs.ch/de/events/termine/acs-drive-route-des-grandes-alpes.php
END:VEVENT
END:VCALENDAR