BEGIN:VCALENDAR
METHOD:PUBLISH
PRODID:-//Weblication CMS
VERSION:2.0
BEGIN:VEVENT
SUMMARY:VIP Reise ans Rallye International du Valais (RIV)
DTSTART:20251023T150000
DTEND:20251024T163000
DESCRIPTION:Erleben Sie die Faszination Rallye-Sport und mehr! Das Rallye International du Valais powered by ACS ist eine der bedeutendste Motorsport-Veranstaltung der Schweiz und in seiner Art einmalig und verspricht Rallye-Sport vom Feinsten.
LOCATION:
UID:https://www.acs.ch/de/events/termine/vip-reise-rallye-international-du-valais.php
URL:https://www.acs.ch/de/events/termine/vip-reise-rallye-international-du-valais.php
END:VEVENT
END:VCALENDAR