BEGIN:VCALENDAR
METHOD:PUBLISH
PRODID:-//Weblication CMS
VERSION:2.0
BEGIN:VEVENT
SUMMARY:ACSbB Motorradgruppe, Chnusperli 2022
DTSTART:20220618
DTEND:20220619
DESCRIPTION:Die Chnusperli-Fahrt der ACS Motorradgruppe führt uns wieder mal in die Vogesen. 
LOCATION:
UID:https://www.acs.ch/de/sektionen/basel/events/termine/Moto-Chnusperli-2022.php
URL:https://www.acs.ch/de/sektionen/basel/events/termine/Moto-Chnusperli-2022.php
END:VEVENT
END:VCALENDAR