BEGIN:VCALENDAR
METHOD:PUBLISH
PRODID:-//Weblication CMS
VERSION:2.0
BEGIN:VEVENT
SUMMARY:ACS-Simracing-Treff in der Racing-Lounge in Pratteln
DTSTART:20251209T183000
DTEND:20251209T220000
DESCRIPTION:Volle Konzentration, Adrenalin im Blut und echtes Rennfeeling – das bieten wir an unserem Simracing-Schnupperabend in Pratteln. Das ACS-Schnupperpaket für nur Fr. 50.– (statt Fr. 80.–)
LOCATION:
UID:https://www.acs.ch/de/sektionen/basel/events/termine/Simracing-Treff.php
URL:https://www.acs.ch/de/sektionen/basel/events/termine/Simracing-Treff.php
END:VEVENT
END:VCALENDAR