BEGIN:VCALENDAR
METHOD:PUBLISH
PRODID:-//Weblication CMS
VERSION:2.0
BEGIN:VEVENT
SUMMARY:Winteranlass Motorradgruppe
DTSTART:20240126T173000
DTEND:20240126T190000
DESCRIPTION:Besichtigung Tram-Museum Basel und Depothalle mit anschliessendem fakulativem Nachtessen im Restaurant Seegarten in der Grün 80. Treffpunkt: Tram-Museum Basel, Münchensteinerstrasse 105, Basel
LOCATION:
UID:https://www.acs.ch/de/sektionen/basel/events/termine/motorradgruppe-winteranlass.php
URL:https://www.acs.ch/de/sektionen/basel/events/termine/motorradgruppe-winteranlass.php
END:VEVENT
END:VCALENDAR