BEGIN:VCALENDAR
METHOD:PUBLISH
PRODID:-//Weblication CMS
VERSION:2.0
BEGIN:VEVENT
SUMMARY:Arosa ClassicCar 2026
DTSTART:20260903T080000
DTEND:20260906T170000
DESCRIPTION:Ein unverzichtbares Ereignis in den Bergen. Oldtimer-Rennen in verschiedenen Kategorien.
LOCATION:
UID:https://www.acs.ch/de/sektionen/mitte/events/termine/Arosa-Classic-Car-2026.php
URL:https://www.acs.ch/de/sektionen/mitte/events/termine/Arosa-Classic-Car-2026.php
END:VEVENT
END:VCALENDAR