BEGIN:VCALENDAR
METHOD:PUBLISH
PRODID:-//Weblication CMS
VERSION:2.0
BEGIN:VEVENT
SUMMARY:Dijon Trackday 2026 
DTSTART:20260521T080000
DTEND:20260521T170000
DESCRIPTION:Trackday für jedermann auf einer der tollsten Rennstrecke in Europa.  Datum: 21. Mai 2026. Jetzt anmelden! 
LOCATION:
UID:https://www.acs.ch/de/sektionen/mitte/events/termine/Dijon-Trackday-2026.php
URL:https://www.acs.ch/de/sektionen/mitte/events/termine/Dijon-Trackday-2026.php
END:VEVENT
END:VCALENDAR