BEGIN:VCALENDAR
METHOD:PUBLISH
PRODID:-//Weblication CMS
VERSION:2.0
BEGIN:VEVENT
SUMMARY:GP Brugger Schachen 2026
DTSTART:20260627T080000
DTEND:20260627T180000
DESCRIPTION:Toller Oldtimer-Anlass im Schachen von Brugg. 
LOCATION:
UID:https://www.acs.ch/de/sektionen/mitte/events/termine/GP-Brugger-Schachen-2026.php
URL:https://www.acs.ch/de/sektionen/mitte/events/termine/GP-Brugger-Schachen-2026.php
END:VEVENT
END:VCALENDAR