BEGIN:VCALENDAR
METHOD:PUBLISH
PRODID:-//Weblication CMS
VERSION:2.0
BEGIN:VEVENT
SUMMARY:GP Mutschellen 2026
DTSTART:20251126T000000
DTEND:20251126T235959
DESCRIPTION:Oldtimer Bergrennen im Aargau
LOCATION:
UID:https://www.acs.ch/de/sektionen/mitte/events/termine/GP-Mutschellen-2026.php
URL:https://www.acs.ch/de/sektionen/mitte/events/termine/GP-Mutschellen-2026.php
END:VEVENT
END:VCALENDAR