BEGIN:VCALENDAR
METHOD:PUBLISH
PRODID:-//Weblication CMS
VERSION:2.0
BEGIN:VEVENT
SUMMARY:Lenzerheide Motor Classic 2026
DTSTART:20260529T080000
DTEND:20260531T170000
DESCRIPTION:Höchstgelegene Rundstrecke in Europa. Oldtimer und Rennfahrzeuge aller Klasse. Motorsport-Spektakel in der Lenzerheide.
LOCATION:
UID:https://www.acs.ch/de/sektionen/mitte/events/termine/Lenzerheide-Motorclassic-2026.php
URL:https://www.acs.ch/de/sektionen/mitte/events/termine/Lenzerheide-Motorclassic-2026.php
END:VEVENT
END:VCALENDAR