BEGIN:VCALENDAR
METHOD:PUBLISH
PRODID:-//Weblication CMS
VERSION:2.0
BEGIN:VEVENT
SUMMARY:OSMT Zug im August 2026
DTSTART:20260809T090000
DTEND:20260809T140000
DESCRIPTION:Beliebtes und grösstes Oldtimer-Treffen in der Schweiz. Von Mai bis September in den Stierenstallungen in Zug. Wir freuen uns auf Ihren Besuch.
LOCATION:
UID:https://www.acs.ch/de/sektionen/mitte/events/termine/OSMT-August-2026.php
URL:https://www.acs.ch/de/sektionen/mitte/events/termine/OSMT-August-2026.php
END:VEVENT
END:VCALENDAR