BEGIN:VCALENDAR
METHOD:PUBLISH
PRODID:-//Weblication CMS
VERSION:2.0
BEGIN:VEVENT
SUMMARY:Die Formel 1, live in Schaffhausen
DTSTART:20230305T150000
DTEND:20230305T180000
DESCRIPTION:GP VON BAHRAIN, MANAMA-SAKHIR  
LOCATION:
UID:https://www.acs.ch/de/sektionen/schaffhausen/events/termine/Formel-1-Anlass-Maerz.php
URL:https://www.acs.ch/de/sektionen/schaffhausen/events/termine/Formel-1-Anlass-Maerz.php
END:VEVENT
END:VCALENDAR