BEGIN:VCALENDAR
METHOD:PUBLISH
PRODID:-//Weblication CMS
VERSION:2.0
BEGIN:VEVENT
SUMMARY:Drift Kurs im Driving Center Seelisberg
DTSTART:20261008T163000
DTEND:20261008T200000
DESCRIPTION:Die ACS Sektion Schwyz-Uri freut sich, Ihnen einen hochkarätigen Driftkurs in Zusammenarbeit mit dem Drivingcenter Event Seelisberg anbieten zu dürfen. 
LOCATION:
UID:https://www.acs.ch/de/sektionen/schwyz-uri/events/termine/Drift-Kurs-okt26.php
URL:https://www.acs.ch/de/sektionen/schwyz-uri/events/termine/Drift-Kurs-okt26.php
END:VEVENT
END:VCALENDAR