BEGIN:VCALENDAR
METHOD:PUBLISH
PRODID:-//Weblication CMS
VERSION:2.0
BEGIN:VEVENT
SUMMARY:Sunset-Drive
DTSTART:20260827T173000
DTEND:20260827T210000
DESCRIPTION:Unser diesjähriger After-Work Event in neuem Gewand! Willkommen zum Sunset-Drive. Wir treffen uns auf der Seeanlage in Seedorf am Südufer des Urnersees zum gemütlichen Grillabend. 
LOCATION:
UID:https://www.acs.ch/de/sektionen/schwyz-uri/events/termine/Sunset-Drive.php
URL:https://www.acs.ch/de/sektionen/schwyz-uri/events/termine/Sunset-Drive.php
END:VEVENT
END:VCALENDAR