BEGIN:VCALENDAR
METHOD:PUBLISH
PRODID:-//Weblication CMS
VERSION:2.0
BEGIN:VEVENT
SUMMARY:Indian Summer Drive 2025
DTSTART:20251001
DTEND:20251003
DESCRIPTION:Classic Drive savoureux en automne par des cols grandioses dans les Grisons et à travers un monde fascinant de montagnes avec des forêts de mélèzes aux reflets dorés et des lacs de montagne d'un bleu profond.
LOCATION:
UID:https://www.acs.ch/fr/evenements/dates/Indian-Summer-Drive-01.Okt.-03.-Okt.-2025.php
URL:https://www.acs.ch/fr/evenements/dates/Indian-Summer-Drive-01.Okt.-03.-Okt.-2025.php
END:VEVENT
END:VCALENDAR