BEGIN:VCALENDAR
METHOD:PUBLISH
PRODID:-//Weblication CMS
VERSION:2.0
BEGIN:VEVENT
SUMMARY:Suisse Caravan Salon 2024
DTSTART:20241024T093000
DTEND:20241028T180000
DESCRIPTION:Même en 2024, l'ACS sera présente au Suisse Caravan Salon 2024. 
LOCATION:
UID:https://www.acs.ch/fr/evenements/dates/Suisse-Caravan-Salon-2024.php
URL:https://www.acs.ch/fr/evenements/dates/Suisse-Caravan-Salon-2024.php
END:VEVENT
END:VCALENDAR