BEGIN:VCALENDAR
METHOD:PUBLISH
PRODID:-//Weblication CMS
VERSION:2.0
BEGIN:VEVENT
SUMMARY:Voyage VIP au Rallye International du Valais (RIV)
DTSTART:20251023T150000
DTEND:20251024T163000
DESCRIPTION:Découvrez la fascination du rallye et bien plus encore ! Le Rallye International du Valais powered by ACS est l'une des plus importantes manifestations de sport automobile de Suisse. Unique en son genre, il promet le meilleur du rallye.
LOCATION:
UID:https://www.acs.ch/fr/evenements/dates/voyage-vip-rallye-international-du-valais.php
URL:https://www.acs.ch/fr/evenements/dates/voyage-vip-rallye-international-du-valais.php
END:VEVENT
END:VCALENDAR