BEGIN:VCALENDAR
METHOD:PUBLISH
PRODID:-//Weblication CMS
VERSION:2.0
BEGIN:VEVENT
SUMMARY:MOTO GP San Marino
DTSTART:20220904T090000
DTEND:20220904T170000
DESCRIPTION:Le tout premier MotoGP à Misano remonte à 1980.  Le circuit est devenu un élément permanent du calendrier MotoGP depuis 2007, après avoir été complètement révisé et remodelé.  Située à environ 25 km au sud-ouest de Rimini, la République de Saint-Marin est considérée comme la plus ancienne république constitutionnelle du monde, puisqu'elle a été fondée en 300 après J.-C.  Misano se trouve à environ 20 km au sud-est de Rimini, le long de la côte adriatique, et à environ 30 km de l'enclave intérieure de Saint-Marin.
LOCATION:
UID:https://www.acs.ch/fr/sections/geneve/evenements/dates/grand-prix-moto-gp/MotoGP-San-Marino.php
URL:https://www.acs.ch/fr/sections/geneve/evenements/dates/grand-prix-moto-gp/MotoGP-San-Marino.php
END:VEVENT
END:VCALENDAR