BEGIN:VCALENDAR
METHOD:PUBLISH
PRODID:-//Weblication CMS
VERSION:2.0
BEGIN:VEVENT
SUMMARY:Gardez votre théorie de conduite à niveau - Module 1 !
DTSTART:20260518T190000
DTEND:20260518T203000
DESCRIPTION:Dernier volet du module 1 pour rafraîchir vos connaissances théoriques et rester informé des dernières évolutions en matière de législation routière.  Notre cours de révision de théorie est conçu spécialement pour les conducteurs expérimentés qui veulent renforcer leur sécurité sur la route tout en améliorant leurs réflexes.
LOCATION:
UID:https://www.acs.ch/fr/sections/valais/evenements/dates/cours-theorie-permis-de-conduire-26.php
URL:https://www.acs.ch/fr/sections/valais/evenements/dates/cours-theorie-permis-de-conduire-26.php
END:VEVENT
END:VCALENDAR