BEGIN:VCALENDAR
METHOD:PUBLISH
PRODID:-//Weblication CMS
VERSION:2.0
BEGIN:VEVENT
SUMMARY:RIV - Rallye International du Valais 2025
DTSTART:20251023T090000
DTEND:20251025T235959
DESCRIPTION:Rejoignez-nous pour le Rallye International du Valais 2025, une étape clé du championnat suisse des rallyes, du 23 au 25 octobre à Martigny. Découvrez des parcours spectaculaires au cœur des Alpes valaisannes.
LOCATION:
UID:https://www.acs.ch/fr/sections/valais/evenements/dates/rallye-international-du-valais.php
URL:https://www.acs.ch/fr/sections/valais/evenements/dates/rallye-international-du-valais.php
END:VEVENT
END:VCALENDAR