BEGIN:VCALENDAR
METHOD:PUBLISH
PRODID:-//Weblication CMS
VERSION:2.0
BEGIN:VEVENT
SUMMARY:Rallye du Chablais 2020 - 17e édition - ANNNULÉ
DTSTART:20200523
DTEND:20200529
DESCRIPTION:La 17e édition du Rallye du Chablais se tiendra du 23 au 28 mai 2020. Courses de côte, contre la montre et spectacle assuré . Cette édition est annulée en raison du COVID-19
LOCATION:
UID:https://www.acs.ch/fr/sections/vaud/evenements/dates/Rallye-du-Chablais-2020.php
URL:https://www.acs.ch/fr/sections/vaud/evenements/dates/Rallye-du-Chablais-2020.php
END:VEVENT
END:VCALENDAR