BEGIN:VCALENDAR
METHOD:PUBLISH
PRODID:-//Weblication CMS
VERSION:2.0
BEGIN:VEVENT
SUMMARY:Viaggio VIP al Rallye International du Valais (RIV)
DTSTART:20251023T150000
DTEND:20251024T163000
DESCRIPTION:Provate il fascino dello sport del rally e non solo! Il Rally International du Valais powered by ACS è uno degli eventi motoristici più importanti della Svizzera ed è unico nel suo genere, promettendo il meglio dello sport del rally.
LOCATION:
UID:https://www.acs.ch/it/eventi/termine/vip-viaggio-rallye-international-du-valais.php
URL:https://www.acs.ch/it/eventi/termine/vip-viaggio-rallye-international-du-valais.php
END:VEVENT
END:VCALENDAR